BEGIN:VCALENDAR
VERSION:2.0
PRODID:-//ConnectW - ECPv6.15.18//NONSGML v1.0//EN
CALSCALE:GREGORIAN
METHOD:PUBLISH
X-WR-CALNAME:ConnectW
X-ORIGINAL-URL:https://connectw.org
X-WR-CALDESC:Events for ConnectW
REFRESH-INTERVAL;VALUE=DURATION:PT1H
X-Robots-Tag:noindex
X-PUBLISHED-TTL:PT1H
BEGIN:VTIMEZONE
TZID:America/Los_Angeles
BEGIN:DAYLIGHT
TZOFFSETFROM:-0800
TZOFFSETTO:-0700
TZNAME:PDT
DTSTART:20240310T100000
END:DAYLIGHT
BEGIN:STANDARD
TZOFFSETFROM:-0700
TZOFFSETTO:-0800
TZNAME:PST
DTSTART:20241103T090000
END:STANDARD
BEGIN:DAYLIGHT
TZOFFSETFROM:-0800
TZOFFSETTO:-0700
TZNAME:PDT
DTSTART:20250309T100000
END:DAYLIGHT
BEGIN:STANDARD
TZOFFSETFROM:-0700
TZOFFSETTO:-0800
TZNAME:PST
DTSTART:20251102T090000
END:STANDARD
BEGIN:DAYLIGHT
TZOFFSETFROM:-0800
TZOFFSETTO:-0700
TZNAME:PDT
DTSTART:20260308T100000
END:DAYLIGHT
BEGIN:STANDARD
TZOFFSETFROM:-0700
TZOFFSETTO:-0800
TZNAME:PST
DTSTART:20261101T090000
END:STANDARD
BEGIN:DAYLIGHT
TZOFFSETFROM:-0800
TZOFFSETTO:-0700
TZNAME:PDT
DTSTART:20270314T100000
END:DAYLIGHT
BEGIN:STANDARD
TZOFFSETFROM:-0700
TZOFFSETTO:-0800
TZNAME:PST
DTSTART:20271107T090000
END:STANDARD
END:VTIMEZONE
BEGIN:VEVENT
DTSTART;TZID=America/Los_Angeles:20260326T170000
DTEND;TZID=America/Los_Angeles:20260326T190000
DTSTAMP:20260423T100137
CREATED:20260312T182011Z
LAST-MODIFIED:20260312T182011Z
UID:10000326-1774544400-1774551600@connectw.org
SUMMARY:March 26\, 2026 Cocktail Connections
DESCRIPTION:Join us at River’s Place\, 787 NE Purcell\, Bend\,  for a no-host\, cash bar Cocktail Connections event. \nMembers are encouraged to bring a business acquaintance\, a business supporter or a friend you think should know more about ConnectW. \nNew to the area? New to business? Curious about ConnectW? Connect with Melinda Young\, ConnectW Membership Director\, for an introduction. \nInterested in hosting Cocktail Connections? \nReach out to Hollie Choe\, Business Promotions for ConnectW.
URL:https://connectw.org/event/march-2026-cocktail-connections-2/
LOCATION:River’s Place\, 787 NE Purcell\, Bend\, Oregon
CATEGORIES:Cocktail Connections,ConnectW Events
ATTACH;FMTTYPE=image/png:https://connectw.org/wp-content/uploads/placeholder-image-v2-women-at-va-piano-cocktail-connections-january-2026.png
END:VEVENT
BEGIN:VEVENT
DTSTART;TZID=America/Los_Angeles:20250820T173000
DTEND;TZID=America/Los_Angeles:20250820T200000
DTSTAMP:20260423T100137
CREATED:20250710T203252Z
LAST-MODIFIED:20250710T204248Z
UID:10000290-1755711000-1755720000@connectw.org
SUMMARY:August 2025 Monthly Meeting
DESCRIPTION:Casual Networking Event – Think “Picnick”\nIMPORTANT: Registration Deadline: Midnight\, August 17\, 2025\nEvent date: Wednesday\, August 20\, 2025\n\n\n☀️ It’s summertime—and you know what that means: time to dust off your finest flip-flops\, show off that sunhat\, and join us for a networking event with absolutely no agenda (except looking fabulous and making new connections). \nThere’s no speaker\, no slide deck\, and no pressure. Just good vibes\, good drinks\, and maybe a few new business cards (which you won’t forget this time\, right?). Whether you bring a Mocktail\, purchase a craft brew\, or sport your trusty water bottle\, you’re welcome. \nBring a guest\, register online\, and help us claim prime seating like the overachievers we are. Or show up early and help pre-warm the party at River’s Place in Bend! \nSee you in August—come casual\, leave connected. \n\n  \nConnectW loves to meet new businesses and new business owners. Please register and join us for the evening.\nConnectW is a women’s networking group that welcomes women in all fields and endeavors—from entrepreneurs and professionals to women simply wishing to explore\, expand and enhance their lives and environments. \nJoin us for networking\, socializing\, food carts and a cash bar. \nNOTE: The cutoff for registration without a late fee is midnight August 17\, 2025.  If tickets are “out of stock”\, please email info@connectw.org to be put on a wait list. \n\nNo refunds offered after August 17\, 2025. \nPlease contact info@connectw.org for further assistance. \n\nA special ‘Thank You” to our ConnectW Corporate Sponsor: \n \n…and to our ConnectW Large Business Sponsor: Terry Sprecher with Sprecher Group.
URL:https://connectw.org/event/august-2025-monthly-meeting-networking/
LOCATION:River’s Place\, 787 NE Purcell\, Bend\, Oregon
CATEGORIES:ConnectW Events,Monthly Meetings
ATTACH;FMTTYPE=image/png:https://connectw.org/wp-content/uploads/August-dinner-meeting-Connectw-2025.png
END:VEVENT
END:VCALENDAR