BEGIN:VCALENDAR
VERSION:2.0
PRODID:-//ConnectW - ECPv6.15.18//NONSGML v1.0//EN
CALSCALE:GREGORIAN
METHOD:PUBLISH
X-WR-CALNAME:ConnectW
X-ORIGINAL-URL:https://connectw.org
X-WR-CALDESC:Events for ConnectW
REFRESH-INTERVAL;VALUE=DURATION:PT1H
X-Robots-Tag:noindex
X-PUBLISHED-TTL:PT1H
BEGIN:VTIMEZONE
TZID:America/Los_Angeles
BEGIN:DAYLIGHT
TZOFFSETFROM:-0800
TZOFFSETTO:-0700
TZNAME:PDT
DTSTART:20220313T100000
END:DAYLIGHT
BEGIN:STANDARD
TZOFFSETFROM:-0700
TZOFFSETTO:-0800
TZNAME:PST
DTSTART:20221106T090000
END:STANDARD
BEGIN:DAYLIGHT
TZOFFSETFROM:-0800
TZOFFSETTO:-0700
TZNAME:PDT
DTSTART:20230312T100000
END:DAYLIGHT
BEGIN:STANDARD
TZOFFSETFROM:-0700
TZOFFSETTO:-0800
TZNAME:PST
DTSTART:20231105T090000
END:STANDARD
BEGIN:DAYLIGHT
TZOFFSETFROM:-0800
TZOFFSETTO:-0700
TZNAME:PDT
DTSTART:20240310T100000
END:DAYLIGHT
BEGIN:STANDARD
TZOFFSETFROM:-0700
TZOFFSETTO:-0800
TZNAME:PST
DTSTART:20241103T090000
END:STANDARD
END:VTIMEZONE
BEGIN:VEVENT
DTSTART;TZID=America/Los_Angeles:20230223T170000
DTEND;TZID=America/Los_Angeles:20230223T183000
DTSTAMP:20260422T020650
CREATED:20221220T194356Z
LAST-MODIFIED:20230205T061051Z
UID:10000156-1677171600-1677177000@connectw.org
SUMMARY:February Cocktail Connections
DESCRIPTION:Join Us for an Evening of Connections!\nGuests are welcome through member-invitation only. Join ConnectW Member Danielle Vidali at Meadow Lark Restaurant at 19570 Amber Meadow Dr Suite 100\, Bend. \nConnectW is a women’s networking group that welcomes women in all fields and endeavors—from entrepreneurs and professionals to women simply wishing to explore\, expand and enhance their lives and environments. \nPlease reach out to one of our Board Members if you’d like to host Cocktail Connections in the future. \n\nA SPECIAL THANK YOU\nTo our ConnectW Corporate & Large Business Sponsors: Patricia Nelson with Two Spruce Law\, Stephanie Higgins with Cascade Sotheby’s\,  Dr. Carol Petherbridge with Freedom Regenerative Medicine\, Lynn Spinoglio with First Interstate Bank and Terry Sprecher with Sprecher Group. \n\nWant to read the latest guidance on COVID-19? Click here to read the latest from the Oregon Health Authority and from the CDC.
URL:https://connectw.org/event/feb2023-cocktail-connections/
LOCATION:Meadow Lark Restaurant\, 19570 Amber Meadow Dr.\, Suite 100\, Bend\, OR
CATEGORIES:Cocktail Connections,ConnectW Events
ATTACH;FMTTYPE=image/png:https://connectw.org/wp-content/uploads/Cocktail-Connections-1.png
END:VEVENT
END:VCALENDAR