BEGIN:VCALENDAR
VERSION:2.0
PRODID:-//ConnectW - ECPv6.15.18//NONSGML v1.0//EN
CALSCALE:GREGORIAN
METHOD:PUBLISH
X-ORIGINAL-URL:https://connectw.org
X-WR-CALDESC:Events for ConnectW
REFRESH-INTERVAL;VALUE=DURATION:PT1H
X-Robots-Tag:noindex
X-PUBLISHED-TTL:PT1H
BEGIN:VTIMEZONE
TZID:America/Los_Angeles
BEGIN:DAYLIGHT
TZOFFSETFROM:-0800
TZOFFSETTO:-0700
TZNAME:PDT
DTSTART:20250309T100000
END:DAYLIGHT
BEGIN:STANDARD
TZOFFSETFROM:-0700
TZOFFSETTO:-0800
TZNAME:PST
DTSTART:20251102T090000
END:STANDARD
BEGIN:DAYLIGHT
TZOFFSETFROM:-0800
TZOFFSETTO:-0700
TZNAME:PDT
DTSTART:20260308T100000
END:DAYLIGHT
BEGIN:STANDARD
TZOFFSETFROM:-0700
TZOFFSETTO:-0800
TZNAME:PST
DTSTART:20261101T090000
END:STANDARD
BEGIN:DAYLIGHT
TZOFFSETFROM:-0800
TZOFFSETTO:-0700
TZNAME:PDT
DTSTART:20270314T100000
END:DAYLIGHT
BEGIN:STANDARD
TZOFFSETFROM:-0700
TZOFFSETTO:-0800
TZNAME:PST
DTSTART:20271107T090000
END:STANDARD
END:VTIMEZONE
BEGIN:VEVENT
DTSTART;TZID=America/Los_Angeles:20260514T114500
DTEND;TZID=America/Los_Angeles:20260514T130000
DTSTAMP:20260423T101517
CREATED:20250423T182219Z
LAST-MODIFIED:20260312T034811Z
UID:10000282-1778759100-1778763600@connectw.org
SUMMARY:May 2026 Munch & Mingle: Bend
DESCRIPTION:ConnectW has redefined the concept of the business lunch.\nJoin ConnectW for an intimate\, monthly noon gathering where professional women of Central Oregon connect over meaningful conversations. \nHeld on the second Thursday of every month\, this exclusive event fosters business growth\, social networking\, and genuine friendships. \nWith attendance limited to 12\, each participant enjoys a personalized experience\, building lasting connections in a supportive environment. Registration is required to reserve your seat\, so don’t miss this opportunity to join an inspiring community. We can’t wait to welcome you! \nIf you find you are unable to attend once you have registered\, please take the time to inform us at info@connectw.org so that we may release the seat to another attendee. \n\n\n                \n                        \n                            May 14\, 2026 Munch & Mingle Registration at Bend\n                             \n                        \n                        Name*\n                            \n                            \n                                                    \n                                                    First\n                                                \n                            \n                            \n                                                    \n                                                    Last\n                                                \n                            \n                        Email*\n                            \n                        Are you a ConnectW member or guest?*\n								\n								I'm a member\n							\n								\n								I'm a guest\n							CAPTCHA\n          \n            \n            \n            \n            \n            \n            \n            \n            \n            \n            \n            \n            \n            \n        \n                        \n                        \n\n\nA special ‘Thank You” to our ConnectW Corporate Sponsor: \n \n…and to our ConnectW Large Business Sponsor: Terry Sprecher with Sprecher Group. \n 
URL:https://connectw.org/event/may-2026-munch-mingle-bend/
LOCATION:Currents Restaurant and Lodge\, 3075 N. Business 97\, Bend\, Oregon\, 97703
CATEGORIES:ConnectW Events,Munch and Mingle
ATTACH;FMTTYPE=image/png:https://connectw.org/wp-content/uploads/WEBSITE-image-Munch-Mingle-Bend-June-2025.png
END:VEVENT
BEGIN:VEVENT
DTSTART;TZID=America/Los_Angeles:20260611T114500
DTEND;TZID=America/Los_Angeles:20260611T130000
DTSTAMP:20260423T101517
CREATED:20260312T025544Z
LAST-MODIFIED:20260312T033803Z
UID:10000322-1781178300-1781182800@connectw.org
SUMMARY:June 2026 Munch & Mingle: Bend
DESCRIPTION:ConnectW has redefined the concept of the business lunch.\nJoin ConnectW for an intimate\, monthly noon gathering where professional women of Central Oregon connect over meaningful conversations. \nHeld on the second Thursday of every month\, this exclusive event fosters business growth\, social networking\, and genuine friendships. \nWith attendance limited to 12\, each participant enjoys a personalized experience\, building lasting connections in a supportive environment. Registration is required to reserve your seat\, so don’t miss this opportunity to join an inspiring community. We can’t wait to welcome you! \nIf you find you are unable to attend once you have registered\, please take the time to inform us at info@connectw.org so that we may release the seat to another attendee. \nOops! We could not locate your form. \n\nA special ‘Thank You” to our ConnectW Corporate Sponsor: \n \n…and to our ConnectW Large Business Sponsor: Terry Sprecher with Sprecher Group. \n 
URL:https://connectw.org/event/june-2026-munch-mingle-bend/
LOCATION:Currents Restaurant and Lodge\, 3075 N. Business 97\, Bend\, Oregon\, 97703
CATEGORIES:ConnectW Events,Munch and Mingle
ATTACH;FMTTYPE=image/png:https://connectw.org/wp-content/uploads/website-MAGE-Munch-Mingle-ConnectW-BEND-x.png
END:VEVENT
BEGIN:VEVENT
DTSTART;TZID=America/Los_Angeles:20260709T114500
DTEND;TZID=America/Los_Angeles:20260709T130000
DTSTAMP:20260423T101517
CREATED:20260320T005813Z
LAST-MODIFIED:20260320T005824Z
UID:10000340-1783597500-1783602000@connectw.org
SUMMARY:July 2026 Munch & Mingle: Bend
DESCRIPTION:ConnectW has redefined the concept of the business lunch.\nJoin ConnectW for an intimate\, monthly noon gathering where professional women of Central Oregon connect over meaningful conversations. \nHeld on the second Thursday of every month\, this exclusive event fosters business growth\, social networking\, and genuine friendships. \nWith attendance limited to 12\, each participant enjoys a personalized experience\, building lasting connections in a supportive environment. Registration is required to reserve your seat\, so don’t miss this opportunity to join an inspiring community. We can’t wait to welcome you! \nIf you find you are unable to attend once you have registered\, please take the time to inform us at info@connectw.org so that we may release the seat to another attendee. \nRegistration will be open for this event on June 9\, 2026. Please come back to this page then. We look forward to seeing you at Munch & Mingle! \n\nA special ‘Thank You” to our ConnectW Corporate Sponsor: \n \n…and to our ConnectW Large Business Sponsor: Terry Sprecher with Sprecher Group. \n 
URL:https://connectw.org/event/july-2026-munch-mingle-bend/
LOCATION:Currents Restaurant and Lodge\, 3075 N. Business 97\, Bend\, Oregon\, 97703
CATEGORIES:ConnectW Events,Munch and Mingle
ATTACH;FMTTYPE=image/png:https://connectw.org/wp-content/uploads/website-MAGE-Munch-Mingle-ConnectW-BEND-x.png
END:VEVENT
END:VCALENDAR