BEGIN:VCALENDAR
VERSION:2.0
PRODID:-//ConnectW - ECPv6.15.18//NONSGML v1.0//EN
CALSCALE:GREGORIAN
METHOD:PUBLISH
X-ORIGINAL-URL:https://connectw.org
X-WR-CALDESC:Events for ConnectW
REFRESH-INTERVAL;VALUE=DURATION:PT1H
X-Robots-Tag:noindex
X-PUBLISHED-TTL:PT1H
BEGIN:VTIMEZONE
TZID:America/Los_Angeles
BEGIN:DAYLIGHT
TZOFFSETFROM:-0800
TZOFFSETTO:-0700
TZNAME:PDT
DTSTART:20240310T100000
END:DAYLIGHT
BEGIN:STANDARD
TZOFFSETFROM:-0700
TZOFFSETTO:-0800
TZNAME:PST
DTSTART:20241103T090000
END:STANDARD
BEGIN:DAYLIGHT
TZOFFSETFROM:-0800
TZOFFSETTO:-0700
TZNAME:PDT
DTSTART:20250309T100000
END:DAYLIGHT
BEGIN:STANDARD
TZOFFSETFROM:-0700
TZOFFSETTO:-0800
TZNAME:PST
DTSTART:20251102T090000
END:STANDARD
BEGIN:DAYLIGHT
TZOFFSETFROM:-0800
TZOFFSETTO:-0700
TZNAME:PDT
DTSTART:20260308T100000
END:DAYLIGHT
BEGIN:STANDARD
TZOFFSETFROM:-0700
TZOFFSETTO:-0800
TZNAME:PST
DTSTART:20261101T090000
END:STANDARD
BEGIN:DAYLIGHT
TZOFFSETFROM:-0800
TZOFFSETTO:-0700
TZNAME:PDT
DTSTART:20270314T100000
END:DAYLIGHT
BEGIN:STANDARD
TZOFFSETFROM:-0700
TZOFFSETTO:-0800
TZNAME:PST
DTSTART:20271107T090000
END:STANDARD
END:VTIMEZONE
BEGIN:VEVENT
DTSTART;TZID=America/Los_Angeles:20260409T114500
DTEND;TZID=America/Los_Angeles:20260409T130000
DTSTAMP:20260423T104114
CREATED:20251230T230959Z
LAST-MODIFIED:20251230T231012Z
UID:10000312-1775735100-1775739600@connectw.org
SUMMARY:April 2026 Munch & Mingle: Bend
DESCRIPTION:ConnectW has redefined the concept of the business lunch.\nJoin ConnectW for an intimate\, monthly noon gathering where professional women of Central Oregon connect over meaningful conversations. \nHeld on the second Thursday of every month\, this exclusive event fosters business growth\, social networking\, and genuine friendships. \nWith attendance limited to 12\, each participant enjoys a personalized experience\, building lasting connections in a supportive environment. Registration is required to reserve your seat\, so don’t miss this opportunity to join an inspiring community. We can’t wait to welcome you! \nIf you find you are unable to attend once you have registered\, please take the time to inform us at info@connectw.org so that we may release the seat to another attendee. \nSorry you missed this event! Please check for the next available Munch & Mingle on the events calendar. \nWe will see you soon! \n\nA special ‘Thank You” to our ConnectW Corporate Sponsor: \n \n…and to our ConnectW Large Business Sponsor: Terry Sprecher with Sprecher Group. \n 
URL:https://connectw.org/event/april-2026-munch-mingle-bend/
LOCATION:Currents Restaurant and Lodge\, 3075 N. Business 97\, Bend\, Oregon\, 97703
CATEGORIES:ConnectW Events,Munch and Mingle
ATTACH;FMTTYPE=image/png:https://connectw.org/wp-content/uploads/April-Bend-munch-2026.png
END:VEVENT
BEGIN:VEVENT
DTSTART;TZID=America/Los_Angeles:20260312T114500
DTEND;TZID=America/Los_Angeles:20260312T130000
DTSTAMP:20260423T104114
CREATED:20251230T224429Z
LAST-MODIFIED:20251230T224429Z
UID:10000310-1773315900-1773320400@connectw.org
SUMMARY:March 2026 Munch & Mingle: Bend
DESCRIPTION:ConnectW has redefined the concept of the business lunch.\nJoin ConnectW for an intimate\, monthly noon gathering where professional women of Central Oregon connect over meaningful conversations. \nHeld on the second Thursday of every month\, this exclusive event fosters business growth\, social networking\, and genuine friendships. \nWith attendance limited to 12\, each participant enjoys a personalized experience\, building lasting connections in a supportive environment. Registration is required to reserve your seat\, so don’t miss this opportunity to join an inspiring community. We can’t wait to welcome you! \nIf you find you are unable to attend once you have registered\, please take the time to inform us at info@connectw.org so that we may release the seat to another attendee. \n\n\n                \n                        \n                            May 2026 Munch & Mingle Registration at Redmond\n                             \n                        \n                        Name*\n                            \n                            \n                                                    \n                                                    First\n                                                \n                            \n                            \n                                                    \n                                                    Last\n                                                \n                            \n                        Email*\n                            \n                        Are you a ConnectW member or guest?*\n								\n								I'm a member\n							\n								\n								I'm a guest\n							if you are a guest\, please tell us how you found ConnectW!CAPTCHA\n          \n            \n            \n            \n            \n            \n            \n            \n            \n            \n            \n            \n            \n            \n        \n                        \n                        \n\n\nA special ‘Thank You” to our ConnectW Corporate Sponsor: \n \n…and to our ConnectW Large Business Sponsor: Terry Sprecher with Sprecher Group. \n 
URL:https://connectw.org/event/march-2026-munch-mingle-bend/
LOCATION:Currents Restaurant and Lodge\, 3075 N. Business 97\, Bend\, Oregon\, 97703
CATEGORIES:ConnectW Events,Munch and Mingle
ATTACH;FMTTYPE=image/png:https://connectw.org/wp-content/uploads/Bend-Munch-Mingle-March-2026-.png
END:VEVENT
BEGIN:VEVENT
DTSTART;TZID=America/Los_Angeles:20260212T114500
DTEND;TZID=America/Los_Angeles:20260212T130000
DTSTAMP:20260423T104114
CREATED:20251230T223057Z
LAST-MODIFIED:20260218T004439Z
UID:10000309-1770896700-1770901200@connectw.org
SUMMARY:February 2026 Munch & Mingle: Bend
DESCRIPTION:ConnectW has redefined the concept of the business lunch.\nJoin ConnectW for an intimate\, monthly noon gathering where professional women of Central Oregon connect over meaningful conversations. \nHeld on the second Thursday of every month\, this exclusive event fosters business growth\, social networking\, and genuine friendships. \nWith attendance limited to 12\, each participant enjoys a personalized experience\, building lasting connections in a supportive environment. Registration is required to reserve your seat\, so don’t miss this opportunity to join an inspiring community. We can’t wait to welcome you! \nIf you find you are unable to attend once you have registered\, please take the time to inform us at info@connectw.org so that we may release the seat to another attendee. \n\n\nA special ‘Thank You” to our ConnectW Corporate Sponsor: \n \n…and to our ConnectW Large Business Sponsor: Terry Sprecher with Sprecher Group. \n 
URL:https://connectw.org/event/feb-2026-munch-mingle-bend/
LOCATION:Currents Restaurant and Lodge\, 3075 N. Business 97\, Bend\, Oregon\, 97703
CATEGORIES:ConnectW Events,Munch and Mingle
ATTACH;FMTTYPE=image/png:https://connectw.org/wp-content/uploads/WEBSITE-image-Munch-Mingle-Bend-dec-2025-.png
END:VEVENT
BEGIN:VEVENT
DTSTART;TZID=America/Los_Angeles:20260108T114500
DTEND;TZID=America/Los_Angeles:20260108T130000
DTSTAMP:20260423T104114
CREATED:20250806T030309Z
LAST-MODIFIED:20251230T213255Z
UID:10000300-1767872700-1767877200@connectw.org
SUMMARY:January 2026 Munch & Mingle: Bend
DESCRIPTION:ConnectW has redefined the concept of the business lunch.\nJoin ConnectW for an intimate\, monthly noon gathering where professional women of Central Oregon connect over meaningful conversations. \nHeld on the second Thursday of every month\, this exclusive event fosters business growth\, social networking\, and genuine friendships. \nWith attendance limited to 12\, each participant enjoys a personalized experience\, building lasting connections in a supportive environment. Registration is required to reserve your seat\, so don’t miss this opportunity to join an inspiring community. We can’t wait to welcome you! \nIf you find you are unable to attend once you have registered\, please take the time to inform us at info@connectw.org so that we may release the seat to another attendee. \n\n\nA special ‘Thank You” to our ConnectW Corporate Sponsor: \n \n…and to our ConnectW Large Business Sponsor: Terry Sprecher with Sprecher Group. \n 
URL:https://connectw.org/event/january-2026-munch-mingle-bend/
LOCATION:Currents Restaurant and Lodge\, 3075 N. Business 97\, Bend\, Oregon\, 97703
CATEGORIES:ConnectW Events,Munch and Mingle
ATTACH;FMTTYPE=image/png:https://connectw.org/wp-content/uploads/WEBSITE-image-Munch-Mingle-Bend-dec-2025-.png
END:VEVENT
BEGIN:VEVENT
DTSTART;TZID=America/Los_Angeles:20260101T014500
DTEND;TZID=America/Los_Angeles:20260101T230000
DTSTAMP:20260423T104114
CREATED:20251230T214826Z
LAST-MODIFIED:20251230T214826Z
UID:10000307-1767231900-1767308400@connectw.org
SUMMARY:Happy New Year 2026
DESCRIPTION:Happy New Year from ConnectW!\n\nA special ‘Thank You” to our ConnectW Corporate Sponsor: \n \n…and to our ConnectW Large Business Sponsor: Terry Sprecher with Sprecher Group. \n 
URL:https://connectw.org/event/happy-new-year-2026/
LOCATION:Currents Restaurant and Lodge\, 3075 N. Business 97\, Bend\, Oregon\, 97703
CATEGORIES:Cocktail Connections,ConnectW Events,Monthly Meetings,Munch and Mingle
ATTACH;FMTTYPE=image/png:https://connectw.org/wp-content/uploads/Happy-New-Year-2026.png
END:VEVENT
BEGIN:VEVENT
DTSTART;TZID=America/Los_Angeles:20251009T114500
DTEND;TZID=America/Los_Angeles:20251009T130000
DTSTAMP:20260423T104114
CREATED:20250806T023609Z
LAST-MODIFIED:20250806T024510Z
UID:10000298-1760010300-1760014800@connectw.org
SUMMARY:October 2025 Munch & Mingle: Bend
DESCRIPTION:ConnectW has redefined the concept of the business lunch.\nJoin ConnectW for an intimate\, monthly noon gathering where professional women of Central Oregon connect over meaningful conversations. \nHeld on the second Thursday of every month\, this exclusive event fosters business growth\, social networking\, and genuine friendships. \nWith attendance limited to 12\, each participant enjoys a personalized experience\, building lasting connections in a supportive environment. Registration is required to reserve your seat\, so don’t miss this opportunity to join an inspiring community. We can’t wait to welcome you! \nIf you find you are unable to attend once you have registered\, please take the time to inform us at info@connectw.org so that we may release the seat to another attendee. \n\n\nA special ‘Thank You” to our ConnectW Corporate Sponsor: \n \n…and to our ConnectW Large Business Sponsor: Terry Sprecher with Sprecher Group. \n 
URL:https://connectw.org/event/october-2025-munch-mingle-bend/
LOCATION:Currents Restaurant and Lodge\, 3075 N. Business 97\, Bend\, Oregon\, 97703
CATEGORIES:ConnectW Events,Munch and Mingle
ATTACH;FMTTYPE=image/png:https://connectw.org/wp-content/uploads/WEBSITE-image-Munch-Mingle-Bend-oct-2025.png
END:VEVENT
BEGIN:VEVENT
DTSTART;TZID=America/Los_Angeles:20250911T114500
DTEND;TZID=America/Los_Angeles:20250911T130000
DTSTAMP:20260423T104114
CREATED:20250806T021440Z
LAST-MODIFIED:20250806T021440Z
UID:10000297-1757591100-1757595600@connectw.org
SUMMARY:September 2025 Munch & Mingle: Bend
DESCRIPTION:ConnectW has redefined the concept of the business lunch.\nJoin ConnectW for an intimate\, monthly noon gathering where professional women of Central Oregon connect over meaningful conversations. \nHeld on the second Thursday of every month\, this exclusive event fosters business growth\, social networking\, and genuine friendships. \nWith attendance limited to 12\, each participant enjoys a personalized experience\, building lasting connections in a supportive environment. Registration is required to reserve your seat\, so don’t miss this opportunity to join an inspiring community. We can’t wait to welcome you! \nIf you find you are unable to attend once you have registered\, please take the time to inform us at info@connectw.org so that we may release the seat to another attendee. \n\n\nA special ‘Thank You” to our ConnectW Corporate Sponsor: \n \n…and to our ConnectW Large Business Sponsor: Terry Sprecher with Sprecher Group. \n 
URL:https://connectw.org/event/september-2025-munch-mingle-bend/
LOCATION:Currents Restaurant and Lodge\, 3075 N. Business 97\, Bend\, Oregon\, 97703
CATEGORIES:ConnectW Events,Munch and Mingle
ATTACH;FMTTYPE=image/png:https://connectw.org/wp-content/uploads/WEBSITE-image-Munch-Mingle-Bend-Sept-2025.png
END:VEVENT
BEGIN:VEVENT
DTSTART;TZID=America/Los_Angeles:20250814T114500
DTEND;TZID=America/Los_Angeles:20250814T130000
DTSTAMP:20260423T104114
CREATED:20250710T205816Z
LAST-MODIFIED:20250710T210024Z
UID:10000292-1755171900-1755176400@connectw.org
SUMMARY:August 2025 Munch & Mingle: Bend
DESCRIPTION:ConnectW has redefined the concept of the business lunch.\nJoin ConnectW for an intimate\, monthly noon gathering where professional women of Central Oregon connect over meaningful conversations. \nHeld on the second Thursday of every month\, this exclusive event fosters business growth\, social networking\, and genuine friendships. \nWith attendance limited to 12\, each participant enjoys a personalized experience\, building lasting connections in a supportive environment. Registration is required to reserve your seat\, so don’t miss this opportunity to join an inspiring community. We can’t wait to welcome you! \nIf you find you are unable to attend once you have registered\, please take the time to inform us at info@connectw.org so that we may release the seat to another attendee. \n\n\nA special ‘Thank You” to our ConnectW Corporate Sponsor: \n \n…and to our ConnectW Large Business Sponsor: Terry Sprecher with Sprecher Group. \n 
URL:https://connectw.org/event/august-2025-munch-mingle-bend/
LOCATION:Currents Restaurant and Lodge\, 3075 N. Business 97\, Bend\, Oregon\, 97703
CATEGORIES:ConnectW Events,Munch and Mingle
ATTACH;FMTTYPE=image/png:https://connectw.org/wp-content/uploads/TEMPLATE-ConnectW-website-image-Munch-Bend-670-x-600-px.png
END:VEVENT
BEGIN:VEVENT
DTSTART;TZID=America/Los_Angeles:20250710T114500
DTEND;TZID=America/Los_Angeles:20250710T130000
DTSTAMP:20260423T104114
CREATED:20250624T204541Z
LAST-MODIFIED:20250710T204806Z
UID:10000288-1752147900-1752152400@connectw.org
SUMMARY:July 2025 Munch & Mingle: Bend
DESCRIPTION:ConnectW has redefined the concept of the business lunch.\nJoin ConnectW for an intimate\, monthly noon gathering where professional women of Central Oregon connect over meaningful conversations. \nHeld on the second Thursday of every month\, this exclusive event fosters business growth\, social networking\, and genuine friendships. \nWith attendance limited to 12\, each participant enjoys a personalized experience\, building lasting connections in a supportive environment. Registration is required to reserve your seat\, so don’t miss this opportunity to join an inspiring community. We can’t wait to welcome you! \nIf you find you are unable to attend once you have registered\, please take the time to inform us at info@connectw.org so that we may release the seat to another attendee. \n\n\nA special ‘Thank You” to our ConnectW Corporate Sponsor: \n \n…and to our ConnectW Large Business Sponsor: Terry Sprecher with Sprecher Group. \n 
URL:https://connectw.org/event/july-2025-munch-mingle-bend/
LOCATION:Currents Restaurant and Lodge\, 3075 N. Business 97\, Bend\, Oregon\, 97703
CATEGORIES:ConnectW Events,Munch and Mingle
ATTACH;FMTTYPE=image/png:https://connectw.org/wp-content/uploads/TEMPLATE-ConnectW-website-image-Munch-Bend-670-x-600-px.png
END:VEVENT
BEGIN:VEVENT
DTSTART;TZID=America/Los_Angeles:20250612T114500
DTEND;TZID=America/Los_Angeles:20250612T130000
DTSTAMP:20260423T104114
CREATED:20250514T174455Z
LAST-MODIFIED:20250515T021934Z
UID:10000283-1749728700-1749733200@connectw.org
SUMMARY:June 2025 Munch & Mingle: Bend
DESCRIPTION:ConnectW has redefined the concept of the business lunch.\nJoin ConnectW for an intimate\, monthly noon gathering where professional women of Central Oregon connect over meaningful conversations. \nHeld on the second Thursday of every month\, this exclusive event fosters business growth\, social networking\, and genuine friendships. \nWith attendance limited to 12\, each participant enjoys a personalized experience\, building lasting connections in a supportive environment. Registration is required to reserve your seat\, so don’t miss this opportunity to join an inspiring community. We can’t wait to welcome you! \nIf you find you are unable to attend once you have registered\, please take the time to inform us at info@connectw.org so that we may release the seat to another attendee. \n\n\nA special ‘Thank You” to our ConnectW Corporate Sponsor: \n \n…and to our ConnectW Large Business Sponsor: Terry Sprecher with Sprecher Group. \n 
URL:https://connectw.org/event/june-2025-munch-mingle-bend/
LOCATION:Currents Restaurant and Lodge\, 3075 N. Business 97\, Bend\, Oregon\, 97703
CATEGORIES:ConnectW Events,Munch and Mingle
ATTACH;FMTTYPE=image/png:https://connectw.org/wp-content/uploads/WEBSITE-image-Munch-Mingle-Bend-June-2025.png
END:VEVENT
BEGIN:VEVENT
DTSTART;TZID=America/Los_Angeles:20250410T114500
DTEND;TZID=America/Los_Angeles:20250410T130000
DTSTAMP:20260423T104114
CREATED:20250315T182210Z
LAST-MODIFIED:20250315T182257Z
UID:10000272-1744285500-1744290000@connectw.org
SUMMARY:April 2025 Munch & Mingle: Bend
DESCRIPTION:ConnectW has redefined the concept of the business lunch.\nJoin ConnectW for an intimate\, monthly noon gathering where professional women of Central Oregon connect over meaningful conversations. \nHeld on the second Thursday of every month\, this exclusive event fosters business growth\, social networking\, and genuine friendships. \nWith attendance limited to 12\, each participant enjoys a personalized experience\, building lasting connections in a supportive environment. Registration is required to reserve your seat\, so don’t miss this opportunity to join an inspiring community. We can’t wait to welcome you! \nIf you find you are unable to attend once you have registered\, please take the time to inform us at info@connectw.org so that we may release the seat to another attendee. \n\n\nA special ‘Thank You” to our ConnectW Corporate Sponsor: \n \n…and to our ConnectW Large Business Sponsor: Terry Sprecher with Sprecher Group. \n 
URL:https://connectw.org/event/april-2025-munch-mingle-bend/
LOCATION:Currents Restaurant and Lodge\, 3075 N. Business 97\, Bend\, Oregon\, 97703
CATEGORIES:ConnectW Events,Munch and Mingle
ATTACH;FMTTYPE=image/png:https://connectw.org/wp-content/uploads/April-2025-ConnectW-website-image-Munch-Bend-670-x-600-px.png
END:VEVENT
BEGIN:VEVENT
DTSTART;TZID=America/Los_Angeles:20250313T114500
DTEND;TZID=America/Los_Angeles:20250313T130000
DTSTAMP:20260423T104114
CREATED:20250120T223100Z
LAST-MODIFIED:20250315T174553Z
UID:10000262-1741866300-1741870800@connectw.org
SUMMARY:March 2025 Munch & Mingle: Bend
DESCRIPTION:ConnectW has redefined the concept of the business lunch.\nJoin ConnectW for an intimate\, monthly noon gathering where professional women of Central Oregon connect over meaningful conversations. \nHeld on the second Thursday of every month\, this exclusive event fosters business growth\, social networking\, and genuine friendships. \nWith attendance limited to 12\, each participant enjoys a personalized experience\, building lasting connections in a supportive environment. Registration is required to reserve your seat\, so don’t miss this opportunity to join an inspiring community. We can’t wait to welcome you! \nIf you find you are unable to attend once you have registered\, please take the time to inform us at info@connectw.org so that we may release the seat to another attendee. \n\n\nA special ‘Thank You” to our ConnectW Corporate Sponsor: \n \n…and to our ConnectW Large Business Sponsor: Terry Sprecher with Sprecher Group. \n 
URL:https://connectw.org/event/march-2025-munch-mingle-bend/
LOCATION:Currents Restaurant and Lodge\, 3075 N. Business 97\, Bend\, Oregon\, 97703
CATEGORIES:ConnectW Events,Munch and Mingle
ATTACH;FMTTYPE=image/png:https://connectw.org/wp-content/uploads/TEMPLATE-ConnectW-website-image-Munch-Bend-670-x-600-px.png
END:VEVENT
BEGIN:VEVENT
DTSTART;TZID=America/Los_Angeles:20250213T114500
DTEND;TZID=America/Los_Angeles:20250213T130000
DTSTAMP:20260423T104114
CREATED:20250108T191219Z
LAST-MODIFIED:20250211T225353Z
UID:10000258-1739447100-1739451600@connectw.org
SUMMARY:February 2025 Munch & Mingle: Bend
DESCRIPTION:ConnectW has redefined the concept of the business lunch.\nJoin ConnectW for an intimate\, monthly noon gathering where professional women of Central Oregon connect over meaningful conversations. \nHeld on the second Thursday of every month\, this exclusive event fosters business growth\, social networking\, and genuine friendships. \nWith attendance limited to 12\, each participant enjoys a personalized experience\, building lasting connections in a supportive environment. Registration is required to reserve your seat\, so don’t miss this opportunity to join an inspiring community. We can’t wait to welcome you! \nIf you find you are unable to attend once you have registered\, please take the time to inform us at info@connectw.org so that we may release the seat to another attendee. \n\n\nA special ‘Thank You” to our ConnectW Corporate Sponsor: \n \n…and to our ConnectW Large Business Sponsor: Terry Sprecher with Sprecher Group. \n 
URL:https://connectw.org/event/february-2025-munch-mingle-bend/
LOCATION:Currents Restaurant and Lodge\, 3075 N. Business 97\, Bend\, Oregon\, 97703
CATEGORIES:ConnectW Events,Munch and Mingle
ATTACH;FMTTYPE=image/png:https://connectw.org/wp-content/uploads/TEMPLATE-ConnectW-website-image-Munch-Bend-670-x-600-px.png
END:VEVENT
BEGIN:VEVENT
DTSTART;TZID=America/Los_Angeles:20250109T114500
DTEND;TZID=America/Los_Angeles:20250109T130000
DTSTAMP:20260423T104114
CREATED:20241120T013550Z
LAST-MODIFIED:20250125T230154Z
UID:10000250-1736423100-1736427600@connectw.org
SUMMARY:January 2025 Munch & Mingle: Bend
DESCRIPTION:ConnectW has redefined the concept of the business lunch.\nConnectW is connecting professional women over a limited-seating\, monthly noon meal every second Thursday of the month. The result? Business sharing\, social networking and\, yes\, friendship.  This event repeats every month on the second Thursday. Attendance is capped at 12 and registration is required to save your seat at the table. We hope to see you there. \nIf you find you are unable to attend once you have registered\, please take the time to inform us at info@connectw.org so that we may release the seat to another attendee. \n\n\nA special ‘Thank You” to our ConnectW Corporate Sponsor: \n \n…and to our ConnectW Large Business Sponsor: Terry Sprecher with Sprecher Group. \n 
URL:https://connectw.org/event/jan-2025-munch-mingle-bend/
LOCATION:Currents Restaurant and Lodge\, 3075 N. Business 97\, Bend\, Oregon\, 97703
CATEGORIES:ConnectW Events,Munch and Mingle
ATTACH;FMTTYPE=image/png:https://connectw.org/wp-content/uploads/Munch-Mingle-in-Bend-new-location-Dec-2024.png
END:VEVENT
END:VCALENDAR