BEGIN:VCALENDAR
VERSION:2.0
PRODID:-//ConnectW - ECPv6.15.18//NONSGML v1.0//EN
CALSCALE:GREGORIAN
METHOD:PUBLISH
X-WR-CALNAME:ConnectW
X-ORIGINAL-URL:https://connectw.org
X-WR-CALDESC:Events for ConnectW
REFRESH-INTERVAL;VALUE=DURATION:PT1H
X-Robots-Tag:noindex
X-PUBLISHED-TTL:PT1H
BEGIN:VTIMEZONE
TZID:America/Los_Angeles
BEGIN:DAYLIGHT
TZOFFSETFROM:-0800
TZOFFSETTO:-0700
TZNAME:PDT
DTSTART:20250309T100000
END:DAYLIGHT
BEGIN:STANDARD
TZOFFSETFROM:-0700
TZOFFSETTO:-0800
TZNAME:PST
DTSTART:20251102T090000
END:STANDARD
BEGIN:DAYLIGHT
TZOFFSETFROM:-0800
TZOFFSETTO:-0700
TZNAME:PDT
DTSTART:20260308T100000
END:DAYLIGHT
BEGIN:STANDARD
TZOFFSETFROM:-0700
TZOFFSETTO:-0800
TZNAME:PST
DTSTART:20261101T090000
END:STANDARD
BEGIN:DAYLIGHT
TZOFFSETFROM:-0800
TZOFFSETTO:-0700
TZNAME:PDT
DTSTART:20270314T100000
END:DAYLIGHT
BEGIN:STANDARD
TZOFFSETFROM:-0700
TZOFFSETTO:-0800
TZNAME:PST
DTSTART:20271107T090000
END:STANDARD
END:VTIMEZONE
BEGIN:VEVENT
DTSTART;TZID=America/Los_Angeles:20260430T170000
DTEND;TZID=America/Los_Angeles:20260430T190000
DTSTAMP:20260423T081530
CREATED:20260319T233500Z
LAST-MODIFIED:20260319T235029Z
UID:10000332-1777568400-1777575600@connectw.org
SUMMARY:April 2026 Cocktail Connections sponsored by Ryan Roberts\, Sierra James Construction LLC
DESCRIPTION:ConnectW Member Ryan Roberts hosts members and guests for the April 30\, 2026\, Cocktail Connections at her office: \n\nThe Abbey @ Monkless  Brewery Facility\n900 SE Wilson Avenue\, Bend\n\nnote: this is not the restaurant on SW Industrial Ave.\n\n\nNo registration required.\n\nBrew-pub hors d’oeuvres by Monkless Brewing.\nArrive at 5 pm to grab a bite before the ice-breaker at 5:45. Treat yourself to a convivial atmosphere and a warm networking experience.\nConnectW members\, are you interested in hosting Cocktail Connections? \nReach out to Hollie Choe\, Business Promotions for ConnectW.
URL:https://connectw.org/event/april-30-2026-cocktail-connections/
CATEGORIES:Cocktail Connections,ConnectW Events
ATTACH;FMTTYPE=image/png:https://connectw.org/wp-content/uploads/May-30-2026-Ryan-Roberts-2026-ConnectW-cocktail-connections.png
END:VEVENT
BEGIN:VEVENT
DTSTART;TZID=America/Los_Angeles:20260528T170000
DTEND;TZID=America/Los_Angeles:20260528T190000
DTSTAMP:20260423T081530
CREATED:20260312T030855Z
LAST-MODIFIED:20260320T175042Z
UID:10000323-1779987600-1779994800@connectw.org
SUMMARY:May 28 2026 Cocktail Connections sponsored by Christine Eisenhower\, Blue Anchor Wealth\, and Andrée Phelps\, Two Spruce Law
DESCRIPTION:ConnectW Member Christine Eisenhower hosts members and guests for the May 28\, 2026\, Cocktail Connections at her office. Christine is co-hosting this event with Two Spruce Law Andrée Phelps. \nVenue: \nBlue Anchor Wealth\n790 SW Industrial Way STE 100\nBend 97702\n\nNo registration required.\n\nArrive at 5 pm and treat yourself to a convivial atmosphere and a warm networking experience.\nInterested in hosting Cocktail Connections? \nReach out to Hollie Choe\, Business Promotions for ConnectW.
URL:https://connectw.org/event/may-28-2026-cocktail-connections/
CATEGORIES:Cocktail Connections,ConnectW Events
ATTACH;FMTTYPE=image/png:https://connectw.org/wp-content/uploads/Christine-may-28-2026-ConnectW-cocktil-connections.png
END:VEVENT
BEGIN:VEVENT
DTSTART;TZID=America/Los_Angeles:20260625T170000
DTEND;TZID=America/Los_Angeles:20260625T190000
DTSTAMP:20260423T081530
CREATED:20260320T000115Z
LAST-MODIFIED:20260320T174311Z
UID:10000333-1782406800-1782414000@connectw.org
SUMMARY:June 2026 Cocktail Connections sponsored by Tia Weinstein\, Univox Media
DESCRIPTION:ConnectW Member Tia Weinstein hosts members and guests for the June 28\, 2026\, Cocktail Connections. \nVenue: At Tia’s home in Powell Butte\n\nRegistration required; you’ll receive the address to Tia’s home when you register.\n\nArrive at 5 pm and treat yourself to a convivial atmosphere and a warm networking experience. This event has a tropical theme – Dress Accordingly!\nInterested in hosting Cocktail Connections? \nReach out to Hollie Choe\, Business Promotions for ConnectW. \n\n\n                \n                        Name*\n                            \n                            \n                                                    \n                                                    First\n                                                \n                            \n                            \n                                                    \n                                                    Last\n                                                \n                            \n                        Mobile Phone #*Email*\n                            \n                        Are you a ConnectW member or guest?*\n								\n								I'm a member\n							\n								\n								I'm a guest\n							CAPTCHA
URL:https://connectw.org/event/june-2026-cocktail-connections/
CATEGORIES:Cocktail Connections,ConnectW Events
ATTACH;FMTTYPE=image/gif:https://connectw.org/wp-content/uploads/Tia-weinstein-june-2026-ConnectW-cocktail-connections.gif
END:VEVENT
BEGIN:VEVENT
DTSTART;TZID=America/Los_Angeles:20260827T170000
DTEND;TZID=America/Los_Angeles:20260827T190000
DTSTAMP:20260423T081530
CREATED:20260320T001747Z
LAST-MODIFIED:20260320T001747Z
UID:10000335-1787850000-1787857200@connectw.org
SUMMARY:August Cocktail Connections - no event scheduled
DESCRIPTION:Interested in hosting Cocktail Connections in August 2026? \nReach out to Hollie Choe\, Business Promotions for ConnectW.
URL:https://connectw.org/event/august-2026-cocktail-connections/
CATEGORIES:Cocktail Connections,ConnectW Events
ATTACH;FMTTYPE=image/gif:https://connectw.org/wp-content/uploads/Interested-in-hosting-ConnectW-cocktail-connections.gif
END:VEVENT
BEGIN:VEVENT
DTSTART;TZID=America/Los_Angeles:20260924T170000
DTEND;TZID=America/Los_Angeles:20260924T190000
DTSTAMP:20260423T081530
CREATED:20260320T002146Z
LAST-MODIFIED:20260320T002146Z
UID:10000336-1790269200-1790276400@connectw.org
SUMMARY:September 2026 Cocktail Connections sponsored by April McCarthy\,  A L McCarthy Insurance Agency
DESCRIPTION:ConnectW Member April McCarthy hosts members and guests for the September 24\, 2026\, Cocktail Connections. \nVenue: TBD\n\nNo registration required.\n\nArrive at 5 pm and treat yourself to a convivial atmosphere and a warm networking experience.\nInterested in hosting Cocktail Connections? \nReach out to Hollie Choe\, Business Promotions for ConnectW.
URL:https://connectw.org/event/sept-2026-cocktail-connections/
CATEGORIES:Cocktail Connections,ConnectW Events
ATTACH;FMTTYPE=image/gif:https://connectw.org/wp-content/uploads/april-mccarthy-Sept2026-ConnectW-cocktail-connections.gif
END:VEVENT
END:VCALENDAR